BEGIN:VCALENDAR
VERSION:2.0
PRODID:-//Liepaja2027//Event Calendar//EN
CALSCALE:GREGORIAN
BEGIN:VEVENT
UID:ef326763c30568d9c990d45c98a11d41@liepaja2027.lv
DTSTAMP:20260425T192006Z
DTSTART:20241005T080000Z
DTEND:20241005T140000Z
SUMMARY:Nīcā notiks Dienvidkurzemes daudzbalsības daudzinājums
DESCRIPTION:
END:VEVENT
END:VCALENDAR
