BEGIN:VCALENDAR
VERSION:2.0
PRODID:-//Liepaja2027//Event Calendar//EN
CALSCALE:GREGORIAN
BEGIN:VEVENT
UID:e667f406998507f881316617b2d4ef5d@liepaja2027.lv
DTSTAMP:20260425T192133Z
DTSTART:20250510T090000Z
DTEND:20250510T120000Z
SUMMARY:Liepāja 2027 Jauniešu ideju prezentāciju pasākums
DESCRIPTION:
END:VEVENT
END:VCALENDAR
