BEGIN:VCALENDAR
VERSION:2.0
PRODID:-//Liepaja2027//Event Calendar//EN
CALSCALE:GREGORIAN
BEGIN:VEVENT
UID:018681cd5164f20f70cf63c45682ad6e@liepaja2027.lv
DTSTAMP:20260420T023423Z
DTSTART:20251022T063000Z
DTEND:20251022T140000Z
SUMMARY:International conference Cultural renovation
DESCRIPTION:
END:VEVENT
END:VCALENDAR
