BEGIN:VCALENDAR
VERSION:2.0
PRODID:-//Liepaja2027//Event Calendar//EN
CALSCALE:GREGORIAN
BEGIN:VEVENT
UID:333c457414c638318fbd8dc8475f47fa@liepaja2027.lv
DTSTAMP:20260420T131225Z
DTSTART:20251022T063000Z
DTEND:20251022T140000Z
SUMMARY:Starptautiska konference Kultūras renovācija
DESCRIPTION:
END:VEVENT
END:VCALENDAR
