BEGIN:VCALENDAR
VERSION:2.0
PRODID:-//Liepaja2027//Event Calendar//EN
CALSCALE:GREGORIAN
BEGIN:VEVENT
UID:aec3fc92b20b87daa9cdffe49e2b9882@liepaja2027.lv
DTSTAMP:20260425T192144Z
DTSTART:20250301T150000Z
DTEND:20250301T162000Z
SUMMARY:Liepājai 400 svētku koncerts “Caur gaismu nāk un sudrabs top”
DESCRIPTION:
END:VEVENT
END:VCALENDAR
