BEGIN:VCALENDAR
VERSION:2.0
PRODID:-//Liepaja2027//Event Calendar//EN
CALSCALE:GREGORIAN
BEGIN:VEVENT
UID:5157c26c812e71f5a3baccc1956b65b6@liepaja2027.lv
DTSTAMP:20260424T104516Z
DTSTART:20260502T090000Z
DTEND:20260502T130000Z
SUMMARY:Aizpute Old Town Festival
DESCRIPTION:
END:VEVENT
END:VCALENDAR
