BEGIN:VCALENDAR
VERSION:2.0
PRODID:-//Liepaja2027//Event Calendar//EN
CALSCALE:GREGORIAN
BEGIN:VEVENT
UID:7c4a7c94c9dae88157ebf37b00f6fe98@liepaja2027.lv
DTSTAMP:20260424T085041Z
DTSTART:20260502T090000Z
DTEND:20260502T130000Z
SUMMARY:Aizputes Vecpilsētas svētki
DESCRIPTION:
END:VEVENT
END:VCALENDAR
