BEGIN:VCALENDAR
VERSION:2.0
PRODID:-//Liepaja2027//Event Calendar//EN
CALSCALE:GREGORIAN
BEGIN:VEVENT
UID:43917daff10d63a93b46003f0792f0e5@liepaja2027.lv
DTSTAMP:20260422T154752Z
DTSTART:20260425T130000Z
DTEND:20260425T160000Z
SUMMARY:The public discussion “Spawning is not a buffet”
DESCRIPTION:
END:VEVENT
END:VCALENDAR
