BEGIN:VCALENDAR
VERSION:2.0
PRODID:-//Liepaja2027//Event Calendar//EN
CALSCALE:GREGORIAN
BEGIN:VEVENT
UID:d8d01ee9154dd9f2becf7e442ca2b0b3@liepaja2027.lv
DTSTAMP:20260422T141535Z
DTSTART:20260425T130000Z
DTEND:20260425T160000Z
SUMMARY:Diskusija &#8220;Nārsts nav bufete&#8221;
DESCRIPTION:
END:VEVENT
END:VCALENDAR
