BEGIN:VCALENDAR
VERSION:2.0
PRODID:-//Liepaja2027//Event Calendar//EN
CALSCALE:GREGORIAN
BEGIN:VEVENT
UID:9d49982c54f1e32f29325cd75186f166@liepaja2027.lv
DTSTAMP:20260422T160418Z
DTSTART:20260424T080000Z
DTEND:20260425T120000Z
SUMMARY:XIX Kurzeme Storytellers’ Festival “Ziv zup” (Fish Soup)
DESCRIPTION:
END:VEVENT
END:VCALENDAR
