BEGIN:VCALENDAR
VERSION:2.0
PRODID:-//Liepaja2027//Event Calendar//EN
CALSCALE:GREGORIAN
BEGIN:VEVENT
UID:9ea60a5f3020beab9c2ec810e98d586c@liepaja2027.lv
DTSTAMP:20260422T142307Z
DTSTART:20260424T080000Z
DTEND:20260425T120000Z
SUMMARY:XIX Kurzemes stāstnieku festivāls “Ziv zup”
DESCRIPTION:
END:VEVENT
END:VCALENDAR
