BEGIN:VCALENDAR
VERSION:2.0
PRODID:-//Liepaja2027//Event Calendar//EN
CALSCALE:GREGORIAN
BEGIN:VEVENT
UID:c99c7883c9236be76e8a68d11409e9a7@liepaja2027.lv
DTSTAMP:20260420T131226Z
DTSTART:20261104T080000Z
DTEND:20261104T160000Z
SUMMARY:International Conference “Cultural Renovation”
DESCRIPTION:
END:VEVENT
END:VCALENDAR
