BEGIN:VCALENDAR
VERSION:2.0
PRODID:-//Liepaja2027//Event Calendar//EN
CALSCALE:GREGORIAN
BEGIN:VEVENT
UID:cc3e4a97fd74d8897c509b23d95658d5@liepaja2027.lv
DTSTAMP:20260422T093216Z
DTSTART:20261104T080000Z
DTEND:20261104T160000Z
SUMMARY:Starptautiskā konference “Kultūras renovācija”
DESCRIPTION:
END:VEVENT
END:VCALENDAR
