BEGIN:VCALENDAR
VERSION:2.0
PRODID:-//Liepaja2027//Event Calendar//EN
CALSCALE:GREGORIAN
BEGIN:VEVENT
UID:1d86efd2c8ac72e467ad568c890574f3@liepaja2027.lv
DTSTAMP:20260420T131224Z
DTSTART:20260909T210000Z
DTEND:20260909T210000Z
SUMMARY:South Kurzeme Municipality Conference “Kurzeme Culture Forum”
DESCRIPTION:
END:VEVENT
END:VCALENDAR
