BEGIN:VCALENDAR
VERSION:2.0
PRODID:-//Liepaja2027//Event Calendar//EN
CALSCALE:GREGORIAN
BEGIN:VEVENT
UID:2969bb9526de8fd9b23473481be71495@liepaja2027.lv
DTSTAMP:20260422T090502Z
DTSTART:20270826T210000Z
DTEND:20270826T210000Z
SUMMARY:Photo Campaign “One Day in Liepāja”
DESCRIPTION:
END:VEVENT
END:VCALENDAR
