BEGIN:VCALENDAR
VERSION:2.0
PRODID:-//Liepaja2027//Event Calendar//EN
CALSCALE:GREGORIAN
BEGIN:VEVENT
UID:fac4e05f308f73a005dec1282e77a206@liepaja2027.lv
DTSTAMP:20260420T131225Z
DTSTART:20270527T070000Z
DTEND:20270527T150000Z
SUMMARY:International Conference “Grobiņa Archaeological Ensemble”
DESCRIPTION:
END:VEVENT
END:VCALENDAR
