BEGIN:VCALENDAR
VERSION:2.0
PRODID:-//Liepaja2027//Event Calendar//EN
CALSCALE:GREGORIAN
BEGIN:VEVENT
UID:a2efe7314a762a7ced8137342fc1dace@liepaja2027.lv
DTSTAMP:20260425T223524Z
DTSTART:20260509T090000Z
DTEND:20260509T130000Z
SUMMARY:Europe Day
DESCRIPTION:
END:VEVENT
END:VCALENDAR
