BEGIN:VCALENDAR
VERSION:2.0
PRODID:-//Liepaja2027//Event Calendar//EN
CALSCALE:GREGORIAN
BEGIN:VEVENT
UID:34d30b63b7dff9095fa739ac397fdf24@liepaja2027.lv
DTSTAMP:20260426T022201Z
DTSTART:20260410T110000Z
DTEND:20260410T150000Z
SUMMARY:Class 3: “Inclusive Culture: Steps and Solutions”
DESCRIPTION:
END:VEVENT
END:VCALENDAR
